BEGIN:VCALENDAR
VERSION:2.0
PRODID:-//Bernhard Huber - ECPv6.15.20//NONSGML v1.0//EN
CALSCALE:GREGORIAN
METHOD:PUBLISH
X-WR-CALNAME:Bernhard Huber
X-ORIGINAL-URL:https://bernhard-huber-hp.de
X-WR-CALDESC:Veranstaltungen für Bernhard Huber
REFRESH-INTERVAL;VALUE=DURATION:PT1H
X-Robots-Tag:noindex
X-PUBLISHED-TTL:PT1H
BEGIN:VTIMEZONE
TZID:Europe/Berlin
BEGIN:DAYLIGHT
TZOFFSETFROM:+0100
TZOFFSETTO:+0200
TZNAME:CEST
DTSTART:20250330T010000
END:DAYLIGHT
BEGIN:STANDARD
TZOFFSETFROM:+0200
TZOFFSETTO:+0100
TZNAME:CET
DTSTART:20251026T010000
END:STANDARD
BEGIN:DAYLIGHT
TZOFFSETFROM:+0100
TZOFFSETTO:+0200
TZNAME:CEST
DTSTART:20260329T010000
END:DAYLIGHT
BEGIN:STANDARD
TZOFFSETFROM:+0200
TZOFFSETTO:+0100
TZNAME:CET
DTSTART:20261025T010000
END:STANDARD
BEGIN:DAYLIGHT
TZOFFSETFROM:+0100
TZOFFSETTO:+0200
TZNAME:CEST
DTSTART:20270328T010000
END:DAYLIGHT
BEGIN:STANDARD
TZOFFSETFROM:+0200
TZOFFSETTO:+0100
TZNAME:CET
DTSTART:20271031T010000
END:STANDARD
END:VTIMEZONE
BEGIN:VEVENT
DTSTART;TZID=Europe/Berlin:20260509T000000
DTEND;TZID=Europe/Berlin:20260905T233000
DTSTAMP:20260420T045136
CREATED:20260217T174035Z
LAST-MODIFIED:20260217T174035Z
UID:318-1778284800-1788651000@bernhard-huber-hp.de
SUMMARY:Die Schwelle - Eine Tarot-Reise in drei Teilen durch deinen inneren Übergang
DESCRIPTION:Es gibt Momente im Leben\, in denen wir spüren: So wie bisher geht es nicht weiter.\nNicht\, weil alles falsch war – sondern weil etwas in uns reif geworden ist. „Die Schwelle“ ist eine dreiteilige Seminarreihe für Menschen\, die an einem inneren Übergang stehen. Du musst nichts radikal verändern. Du darfst prüfen\, wählen und bewusst weitergehen. \nIn Teil 1 dieser Seminarreihe bist du eingeladen\, zu prüfen\, welche Übergänge bei dir anstehen. Was will zu Ende gebracht\, was darf übergeben werden? Du musst nicht umkehren oder zerstören. An der Schwelle stellt sich nur die Frage: Was nimmst du mit und was lässt du bewusst zurück? \nIn Teil 2 wird es kraftvoll. Du bist nicht Opfer deiner Umstände! Du bist Schöpfer deiner Realität. Wer warst du bisher und wer willst du jetzt sein? Was hast du in Teil 1 losgelassen und wie füllst du diesen leeren Raum neu? Wähle ganz bewusst\, entscheide\, wer du jetzt bist. \nDer 3. Teil beschäftigt sich mit der Umsetzung deiner Entscheidungen in den Alltag. Du beginnst\, deine Wahl zu verkörpern und Schritt für Schritt in deine neue Identität hineinzugehen. Nicht hektisch\, nicht revolutionär. Sondern bewusst einen Fuß vor den anderen setzend\, klar\, ruhig konsequent. \nWenn du an einem Teil nicht dabei sein kannst\, bist du dennoch an den anderen willkommen. Du kannst den ausgelassenen Teil entweder für dich alleine oder in einer Einzelsitzung mit Bernhard bearbeiten.
URL:https://bernhard-huber-hp.de/seminar/die-schwelle-eine-tarot-reise-in-drei-teilen-durch-deinen-inneren-uebergang/
LOCATION:Online über Zoom
ATTACH;FMTTYPE=image/jpeg:https://bernhard-huber-hp.de/wp-content/uploads/2026/02/Die-Schwelle-3-scaled.jpg
END:VEVENT
BEGIN:VEVENT
DTSTART;TZID=Europe/Berlin:20260509T100000
DTEND;TZID=Europe/Berlin:20260509T180000
DTSTAMP:20260420T045136
CREATED:20260217T173942Z
LAST-MODIFIED:20260217T173942Z
UID:324-1778320800-1778349600@bernhard-huber-hp.de
SUMMARY:Die Schwelle I – Erkennen\, was endet
DESCRIPTION:Es gibt Momente im Leben\, da spüren wir: Etwas trägt uns nicht mehr.\nKeine Katastrophe. Kein Drama. Aber ein leises inneres Wissen. \nIn diesem ersten Seminar betreten wir den Raum der Klarheit.\nMit Hilfe des Tarots schauen wir ehrlich auf das\, was sich überlebt hat: alte Rollen\, innere Verträge\, Loyalitäten\, Muster und Selbstbilder. \nWas ist innerlich bereits vorbei – auch wenn es im Außen noch besteht?\nWas kostet dich Kraft?\nUnd was will würdevoll abgeschlossen werden? \nDu musst nichts zerstören.\nDu musst nur erkennen.\nZutiefst ehrlich dir selbst gegenüber. \nDenn Klarheit ist der erste Schritt über jede Schwelle.
URL:https://bernhard-huber-hp.de/seminar/die-schwelle-i-erkennen-was-endet/
LOCATION:Online über Zoom
ATTACH;FMTTYPE=image/jpeg:https://bernhard-huber-hp.de/wp-content/uploads/2026/02/Schwelle-I-scaled.jpg
END:VEVENT
BEGIN:VEVENT
DTSTART;TZID=Europe/Berlin:20260705T100000
DTEND;TZID=Europe/Berlin:20260705T180000
DTSTAMP:20260420T045136
CREATED:20260217T173926Z
LAST-MODIFIED:20260217T173926Z
UID:327-1783245600-1783274400@bernhard-huber-hp.de
SUMMARY:Die Schwelle II – Wähle\, wer du jetzt bist
DESCRIPTION:Zwischen dem Alten und dem Neuen liegt ein Raum der Entscheidung.\nNicht die Umstände bestimmen ihn – sondern du. \nIn diesem Seminar geht es um bewusste Wahl.\nWelche Erfahrungen nimmst du mit über die Schwelle?\nWelche Prägungen dürfen dich weiterhin stärken?\nUnd was legst du bewusst ab\, damit du leichter gehst? \nDas Tarot öffnet den Zugang zu deiner inneren Führung.\nHier entsteht Selbstverantwortung.\nHier entsteht Identität.\nHier entsteht Kraft. \nDu musst dich nicht neu erfinden.\nAber du darfst dich neu definieren.
URL:https://bernhard-huber-hp.de/seminar/die-schwelle-ii-waehle-wer-du-jetzt-bist/
LOCATION:Online über Zoom
ATTACH;FMTTYPE=image/jpeg:https://bernhard-huber-hp.de/wp-content/uploads/2026/02/Schwelle-II-scaled.jpg
END:VEVENT
BEGIN:VEVENT
DTSTART;TZID=Europe/Berlin:20260719T190000
DTEND;TZID=Europe/Berlin:20260725T140000
DTSTAMP:20260420T045136
CREATED:20250210T130508Z
LAST-MODIFIED:20251015T085531Z
UID:151-1784487600-1784988000@bernhard-huber-hp.de
SUMMARY:TAROT-Ausbildung 2026 (Teil 1: Intensiv-Woche)
DESCRIPTION:Einführung und Vertiefung\n\n\nmit Bernhard Huber und Lisa Kutmon \n\nDie TAROT-Ausbildung ist eine ganz besondere Gelegenheit\, mehr über die Tarotkarten und sich selbst zu erfahren. Das hier vermittelte Wissen kann sowohl das eigene Leben bereichern\, als auch dazu befähigen\, mit anderen Menschen zu arbeiten. \nTarotkarten haben sich als geniales Werkzeug in der Arbeit mit Menschen erwiesen. Mit ihrer Hilfe ist es möglich\, mit der inneren Weisheit und Führung in Verbindung zu treten. Dabei entstehen magische Momente des tiefen inneren Erkennens. \nDie in der TAROT-Ausbildung vermittelten Inhalte und Methoden knüpfen an Bodhis Bücher an. Du erhälst neue Sichtweisen und Zugänge\, wie man die Karten in Verbindung mit der inneren Weisheit einsetzen kann. So ist es möglich\, konkrete Lebensthemen aufzuzeigen und zu klären. Du entwickelst auch deine intuitiven Fähigkeiten beim Einsatz der Tarotkarten für die innere Arbeit mit Menschen. \nAlle weiteren Infos: https://www.gerd-bodhi-ziegler.com/tarot-ausbildung/ \nDie Tarotausbildung besteht aus zwei Modulen zu 6 und 5 Tagen. Wenn beide Module zusammen gebucht werden\, reduziert sich der Gesamtbetrag auf 1.100 €.
URL:https://bernhard-huber-hp.de/seminar/tarot-ausbildung-2025-teil-1-intensiv-woche/
LOCATION:Landhaus Sonnenberg\, Ernsbacher Weg 8\, Erbach-Erbuch\, 64711\, Germany
ATTACH;FMTTYPE=image/jpeg:https://bernhard-huber-hp.de/wp-content/uploads/2025/02/Bernhard-und-Lisa.jpg
END:VEVENT
BEGIN:VEVENT
DTSTART;TZID=Europe/Berlin:20260905T100000
DTEND;TZID=Europe/Berlin:20260905T180000
DTSTAMP:20260420T045136
CREATED:20260217T173905Z
LAST-MODIFIED:20260217T173905Z
UID:330-1788602400-1788631200@bernhard-huber-hp.de
SUMMARY:Die Schwelle III – Gehen und verkörpern
DESCRIPTION:Erkenntnis allein verändert nichts.\nErst der Schritt macht den Unterschied. \nIm dritten Teil geht es um Verkörperung.\nWie wird dein neues Selbst im Alltag sichtbar?\nWo darfst du klarer sprechen\, deutlicher handeln\, dich wahrhaftiger zeigen? \nWir erarbeiten konkrete Schritte\, die aus deiner inneren Klarheit entstehen.\nKeine radikale Kehrtwende.\nKein erzwungener Neubeginn. \nSondern ein bewusster Übergang. \nDie Schwelle trennt nicht – sie klärt.\nUnd wenn du sie gehst\, nimmst du mit\, was dir dient.\nAlles andere darf zurückbleiben.
URL:https://bernhard-huber-hp.de/seminar/die-schwelle-iii-gehen-und-verkoerpern/
LOCATION:Online über Zoom
ATTACH;FMTTYPE=image/jpeg:https://bernhard-huber-hp.de/wp-content/uploads/2026/02/Schwelle-III-scaled.jpg
END:VEVENT
BEGIN:VEVENT
DTSTART;TZID=Europe/Berlin:20260908T190000
DTEND;TZID=Europe/Berlin:20260912T140000
DTSTAMP:20260420T045136
CREATED:20250717T172606Z
LAST-MODIFIED:20251015T085650Z
UID:172-1788894000-1789221600@bernhard-huber-hp.de
SUMMARY:TAROT-Ausbildung 2026 (Teil 2: Abschluss- und Zertifikatskurs)
DESCRIPTION:Einführung und Vertiefung\n\n\nmit Bernhard Huber und Lisa Kutmon \n\nDie TAROT-Ausbildung ist eine ganz besondere Gelegenheit\, mehr über die Tarotkarten und sich selbst zu erfahren. Das hier vermittelte Wissen kann sowohl das eigene Leben bereichern\, als auch dazu befähigen\, mit anderen Menschen zu arbeiten. \nTarotkarten haben sich als geniales Werkzeug in der Arbeit mit Menschen erwiesen. Mit ihrer Hilfe ist es möglich\, mit der inneren Weisheit und Führung in Verbindung zu treten. Dabei entstehen magische Momente des tiefen inneren Erkennens. \nDie in der TAROT-Ausbildung vermittelten Inhalte und Methoden knüpfen an Bodhis Bücher an. Du erhälst neue Sichtweisen und Zugänge\, wie man die Karten in Verbindung mit der inneren Weisheit einsetzen kann. So ist es möglich\, konkrete Lebensthemen aufzuzeigen und zu klären. Du entwickelst auch deine intuitiven Fähigkeiten beim Einsatz der Tarotkarten für die innere Arbeit mit Menschen. \nAlle weiteren Infos: https://www.gerd-bodhi-ziegler.com/tarot-ausbildung/ \nDie Tarotausbildung besteht aus zwei Modulen zu 6 und 5 Tagen. Wenn beide Module zusammen gebucht werden\, reduziert sich der Gesamtbetrag auf 1.100 €.
URL:https://bernhard-huber-hp.de/seminar/tarot-ausbildung-2025-teil-2-abschluss-und-zertifikatskurs/
LOCATION:Landhaus Sonnenberg\, Ernsbacher Weg 8\, Erbach-Erbuch\, 64711\, Germany
ATTACH;FMTTYPE=image/jpeg:https://bernhard-huber-hp.de/wp-content/uploads/2025/02/Bernhard-und-Lisa.jpg
END:VEVENT
END:VCALENDAR